BEGIN:VCALENDAR
VERSION:2.0
PRODID:-//eventon.com NONSGML v1.0//EN
CALSCALE:GREGORIAN
METHOD:PUBLISH
BEGIN:VEVENT
UID:69e8888260a95
DTSTAMP:20260422T083618Z
DTSTART:20260325T133000Z
DTEND:20260325T163000Z
LOCATION:
SUMMARY:Watercolors & Wildlife: Painting with Jan - Manatees
DESCRIPTION:Get creative with watercolor while celebrating the “Spirit An
 imals of Rookery Bay”! These fun\,  no-stress classes are perfect for bot
 h beginners and experienced artists. With all supplies provided and friendl
 y guidance from local artist Jan\,  you’ll explore color\,  technique and
  wildlife inspiration\,  without the pressure. Each session ends with a[..]
 \nhttps://unitedartscollier.org/events/watercolors-wildlife-painting-with-j
 an-manatees-2/
URL:https://unitedartscollier.org/events/watercolors-wildlife-painting-with-jan-manatees-2/
END:VEVENT
END:VCALENDAR