BEGIN:VCALENDAR
VERSION:2.0
PRODID:-//eventon.com NONSGML v1.0//EN
CALSCALE:GREGORIAN
METHOD:PUBLISH
BEGIN:VEVENT
UID:69eb2d6edfb79
DTSTAMP:20260424T084430Z
DTSTART:20260313T173000Z
DTEND:20260313T190000Z
LOCATION:
SUMMARY:Nature Journaling at Rookery Bay
DESCRIPTION:Uncover mysteries all around you and wonder at fascinating natu
 ral phenomena with Nature Journaling. It’s all about slowing down and tak
 ing in your surroundings. Discover how deep attention leads to curiosity\, 
  and how curiosity develops into a vibrant experience that strengthens your
  connection to the world around you. Whether spending[..]\nhttps://unitedar
 tscollier.org/events/nature-journaling-at-rookery-bay/
URL:https://unitedartscollier.org/events/nature-journaling-at-rookery-bay/
END:VEVENT
END:VCALENDAR