BEGIN:VCALENDAR
VERSION:2.0
PRODID:-//eventon.com NONSGML v1.0//EN
CALSCALE:GREGORIAN
METHOD:PUBLISH
BEGIN:VEVENT
UID:69e6115e8f5c8
DTSTAMP:20260420T114326Z
DTSTART:20260331T090000Z
DTEND:20260711T160000Z
LOCATION:Marco Island Historical Museum 180 S. Heathwood Drive
SUMMARY:America the Beautiful by Clyde Butcher Exhibition
DESCRIPTION:As part of the America250 celebration\,  we are proud to exhibi
 t Clyde Butcher’s America the Beautiful. Known for his powerful black-and
 -white\,  large-scale photography\,  Butcher captures the awe-inspiring lan
 dscapes of America’s National Parks—some of our nation’s greatest nat
 ural treasures. His work invites viewers to experience the majesty\,  seren
 ity\,  and enduring significance[..]\nhttps://unitedartscollier.org/events/
 america-the-beautiful-by-clyde-butcher-exhibition/
URL:https://unitedartscollier.org/events/america-the-beautiful-by-clyde-butcher-exhibition/
END:VEVENT
END:VCALENDAR